Workbook
Name Activity_at_reload_date: Source!$G$1
Name Co60constant: Source!$C$14
Name convert_units: Unit_conversion!$A$3:$G$29
Name Date_of_reload: Source!$C$1
Name Elements: Source!$P$9:$X$101
Name form_date: TID_test_plan!$N$4
Name format_date: TID_test_plan!$N$4
Name half_life: Source!$G$8
Name material_CF: Unit_conversion!$N$3:$O$29
Name Public_Holidays: ESTEC_Public_holidays!$A$1:$A$28
Name self_absorption_coefficient: Source!$E$5
Name Warning_messages: Check_data!$X$2:$Z$27
Name work_days: ESTEC_work_hrs!$A$3:$H$9

Sheet TID_test_plan
N2: Only the cells with light blue background can be edited | V2: Instructions
F4: TEST task nr: | H4: RA000xxxx | N4: Radiation Test Schedule | V4: This excel file "Radiation Test Schedule" allows to schedule
F5: revision: | H5: 0 | V5: the irradiation steps with respect to accessibility of the radiation room:
V6: -the DUT exposure runs 24/7
V7: -the irradiation and control room are accessible during working hours 09:30 - 18
C8: 1) | D8: Start Date & Time: | H8: 46027.396 | J8: =TEXT(H8,"dddd") -> Monday | V8: -access between 8:30-9:30 and 18-19:30 is possible pending personnel availability: shall be agreed with facility manager
C10: 2) | D10: Intermediate measurement duration [hrs]: | J10: 1 | R10: last update 21 Jan 2026 | V10: How to define the schedule, in 5 steps:
R11: Please note that the dosimetry at ESTEC Co60 Facility is based on the measurement of dose deposited to water: the radiation test summary document provided by the ESTEC Co60 Facility at the end of the test campaign will be expressed as dose to water. | W11: 1) Select the "Start date & time" of the irradiation campaign
C12: 3) | D12: Units selection | H12: Dose (Si) | I12: Time | J12: Distance | W12: 2) Specify the " Intermediate measurement duration [hrs]"
F13: 11 | H13: =VLOOKUP($F13,convert_units,2,FALSE) -> rad | I13: =VLOOKUP($F13,convert_units,4,FALSE) -> hrs | J13: =VLOOKUP($F13,convert_units,3,FALSE) -> cm | W13: 3) Select the units with the arrows
W14: 4) Define the "Default Dose Rate"
W15: 5) Complete each line of the run with the "Target Total Dose" of the step.
C16: 4) | D16: Default Dose Rate : | H16: 360 | I16: ="["&H13&"/"&I13&"] (to Si)*" -> [rad/hrs] (to Si)* | W16: 5.1) If the Dose Rate of the run shall be different from the "Default Dose Rate", use the column "Target Dose Rate"
W17: 5.2) Check that your Boards(s) fit in the Max irradiation area (width and heigh length indicated in Column J)
F18: (*) The figures of dose and dose rate indicated in this document shall be dose to Si.
F19: If you whish to express the requested dose and dose rate deposited to other materials, | V19: ... iterate as necessary until no red appears
F20: that shall be clearly specified when you send this file to | J20: Co60.Facility.ESTEC@esa.int
C23: 5) | D23: Planned Irradiation Steps
D24: Run | F24: Target Total Dose (*) | H24: Target Dose Rate (*) | I24: Estimated Distance | J24: Max Irradiation area : sides length | K24: Irradiation Time | L24: Irradiation Run | V24: Once the initial starting date, the dose levels, the dose rate and dose steps are selected for each run the radiation test planner will indicate if the run is feasible.
F25: ="["&H13&"]" -> [rad] | H25: ="["&H13&"/"&I13&"]" -> [rad/hrs] | I25: ="["&J13&"]" -> [cm] | J25: ="["&J13&"]" -> [cm] | K25: ="["&I13&"]" -> [hrs] | M25: Start | P25: Stop | R25: Remarks
D26: 0 | V26: Legend:
D27: 1 | E27: =Check_data!B27 -> 0 | F27: 10000 | G27: =Check_data!C27 -> 0 | H27: =IF(F27="","",$H$16) -> 360 | I27: =IF(F27="","",(Activity_at_reload_date*Co60constant*self_absorption_coefficient*EXP(-LN(2)/half_life*(N27-(Date_of_reload))*(24*3600))/(H27/0.898*VLOOKUP($F$13,convert_units,5,FALSE)*VLOOKUP($F$13,convert_units,7,FALSE)))^0.5*VLOOKUP($F$13,convert_units,6,FALSE)) -> 193.82923 | J27: =IF(F27="","",(2*((0.25*((I27*1000/VLOOKUP($F$13,convert_units,6,FALSE)))-30)))*VLOOKUP($F$13,convert_units,6,FALSE)/1000) -> 90.914613 | K27: =IF(F27="","",(F27-F26)/$H27) -> 27.777778 | L27: =Check_data!D27 -> 0 | M27: =TEXT(N27,"ddd") -> Mon | N27: =+H8 -> 46027.396 | O27: =Check_data!E27 -> 0 | P27: =TEXT(Q27,"ddd") -> Tue | Q27: =IF(K27="",N27,N27+K27/(24*VLOOKUP($F$13,convert_units,7,FALSE))) -> 46028.553 | R27: =IF(Check_data!B7=0,"",Check_data!B7) -> - | W27: green label next to the beginning/end of the run indicates that the dose step is feasible,
D28: 2 | E28: =Check_data!B28 -> 2 | G28: =Check_data!C28 -> 0 | H28: =IF(F28="","",$H$16) | I28: =IF(F28="","",(Activity_at_reload_date*Co60constant*self_absorption_coefficient*EXP(-LN(2)/half_life*(N28-(Date_of_reload))*(24*3600))/(H28/0.898*VLOOKUP($F$13,convert_units,5,FALSE)*VLOOKUP($F$13,convert_units,7,FALSE)))^0.5*VLOOKUP($F$13,convert_units,6,FALSE)) | J28: =IF(F28="","",(2*((0.25*((I28*1000/VLOOKUP($F$13,convert_units,6,FALSE)))-30)))*VLOOKUP($F$13,convert_units,6,FALSE)/1000) | K28: =IF(F28="","",(F28-F27)/$H28) | L28: =Check_data!D28 -> 0 | M28: =TEXT(N28,"ddd") | N28: =IF(ISBLANK(F28),"",IF(K28="",Q27,Q27+$J$10/24)) | O28: =Check_data!E28 -> 0 | P28: =TEXT(Q28,"ddd") | Q28: =IF(ISBLANK(F28),"",IF(K28="",N28,N28+K28/(24*VLOOKUP($F$13,convert_units,7,FALSE)))) | R28: =IF(Check_data!B8=0,"",Check_data!B8) -> please fill in: Target TID, [target dose rate] | W28: orange label indicates that combination may be possible, the feasibility shall be agreed with facility (Co60.Facility.ESTEC@esa.int ),
D29: 3 | E29: =Check_data!B29 -> 2 | G29: =Check_data!C29 -> 0 | H29: =IF(F29="","",$H$16) | I29: =IF(F29="","",(Activity_at_reload_date*Co60constant*self_absorption_coefficient*EXP(-LN(2)/half_life*(N29-(Date_of_reload))*(24*3600))/(H29/0.898*VLOOKUP($F$13,convert_units,5,FALSE)*VLOOKUP($F$13,convert_units,7,FALSE)))^0.5*VLOOKUP($F$13,convert_units,6,FALSE)) | J29: =IF(F29="","",(2*((0.25*((I29*1000/VLOOKUP($F$13,convert_units,6,FALSE)))-30)))*VLOOKUP($F$13,convert_units,6,FALSE)/1000) | K29: =IF(F29="","",(F29-F28)/$H29) | L29: =Check_data!D29 -> 0 | M29: =TEXT(N29,"ddd") | N29: =IF(ISBLANK(F29),"",IF(K29="",Q28,Q28+$J$10/24)) | O29: =Check_data!E29 -> 0 | P29: =TEXT(Q29,"ddd") | Q29: =IF(ISBLANK(F29),"",IF(K29="",N29,N29+K29/(24*VLOOKUP($F$13,convert_units,7,FALSE)))) | R29: =IF(Check_data!B9=0,"",Check_data!B9) -> please fill in: Target TID, [target dose rate] | W29: red label indicates that the combination selected cannot be accomodated.
D30: 4 | E30: =Check_data!B30 -> 2 | G30: =Check_data!C30 -> 0 | H30: =IF(F30="","",$H$16) | I30: =IF(F30="","",(Activity_at_reload_date*Co60constant*self_absorption_coefficient*EXP(-LN(2)/half_life*(N30-(Date_of_reload))*(24*3600))/(H30/0.898*VLOOKUP($F$13,convert_units,5,FALSE)*VLOOKUP($F$13,convert_units,7,FALSE)))^0.5*VLOOKUP($F$13,convert_units,6,FALSE)) | J30: =IF(F30="","",(2*((0.25*((I30*1000/VLOOKUP($F$13,convert_units,6,FALSE)))-30)))*VLOOKUP($F$13,convert_units,6,FALSE)/1000) | K30: =IF(F30="","",(F30-F29)/$H30) | L30: =Check_data!D30 -> 0 | M30: =TEXT(N30,"ddd") | N30: =IF(ISBLANK(F30),"",IF(K30="",Q29,Q29+$J$10/24)) | O30: =Check_data!E30 -> 0 | P30: =TEXT(Q30,"ddd") | Q30: =IF(ISBLANK(F30),"",IF(K30="",N30,N30+K30/(24*VLOOKUP($F$13,convert_units,7,FALSE)))) | R30: =IF(Check_data!B10=0,"",Check_data!B10) -> please fill in: Target TID, [target dose rate] | V30: The column "Remarks" explains the reason of the scheduling error upon appearance of the red or orange warnings.
D31: 5 | E31: =Check_data!B31 -> 2 | G31: =Check_data!C31 -> 0 | H31: =IF(F31="","",$H$16) | I31: =IF(F31="","",(Activity_at_reload_date*Co60constant*self_absorption_coefficient*EXP(-LN(2)/half_life*(N31-(Date_of_reload))*(24*3600))/(H31/0.898*VLOOKUP($F$13,convert_units,5,FALSE)*VLOOKUP($F$13,convert_units,7,FALSE)))^0.5*VLOOKUP($F$13,convert_units,6,FALSE)) | J31: =IF(F31="","",(2*((0.25*((I31*1000/VLOOKUP($F$13,convert_units,6,FALSE)))-30)))*VLOOKUP($F$13,convert_units,6,FALSE)/1000) | K31: =IF(F31="","",(F31-F30)/$H31) | L31: =Check_data!D31 -> 0 | M31: =TEXT(N31,"ddd") | N31: =IF(ISBLANK(F31),"",IF(K31="",Q30,Q30+$J$10/24)) | O31: =Check_data!E31 -> 0 | P31: =TEXT(Q31,"ddd") | Q31: =IF(ISBLANK(F31),"",IF(K31="",N31,N31+K31/(24*VLOOKUP($F$13,convert_units,7,FALSE)))) | R31: =IF(Check_data!B11=0,"",Check_data!B11) -> please fill in: Target TID, [target dose rate] | T31: ESA-TECEDR-LAB-ML-2025-001890 version 3.0
D32: 6 | E32: =Check_data!B32 -> 2 | G32: =Check_data!C32 -> 0 | H32: =IF(F32="","",$H$16) | I32: =IF(F32="","",(Activity_at_reload_date*Co60constant*self_absorption_coefficient*EXP(-LN(2)/half_life*(N32-(Date_of_reload))*(24*3600))/(H32/0.898*VLOOKUP($F$13,convert_units,5,FALSE)*VLOOKUP($F$13,convert_units,7,FALSE)))^0.5*VLOOKUP($F$13,convert_units,6,FALSE)) | J32: =IF(F32="","",(2*((0.25*((I32*1000/VLOOKUP($F$13,convert_units,6,FALSE)))-30)))*VLOOKUP($F$13,convert_units,6,FALSE)/1000) | K32: =IF(F32="","",(F32-F31)/$H32) | L32: =Check_data!D32 -> 0 | M32: =TEXT(N32,"ddd") | N32: =IF(ISBLANK(F32),"",IF(K32="",Q31,Q31+$J$10/24)) | O32: =Check_data!E32 -> 0 | P32: =TEXT(Q32,"ddd") | Q32: =IF(ISBLANK(F32),"",IF(K32="",N32,N32+K32/(24*VLOOKUP($F$13,convert_units,7,FALSE)))) | R32: =IF(Check_data!B12=0,"",Check_data!B12) -> please fill in: Target TID, [target dose rate]
D33: 7 | E33: =Check_data!B33 -> 2 | G33: =Check_data!C33 -> 0 | H33: =IF(F33="","",$H$16) | I33: =IF(F33="","",(Activity_at_reload_date*Co60constant*self_absorption_coefficient*EXP(-LN(2)/half_life*(N33-(Date_of_reload))*(24*3600))/(H33/0.898*VLOOKUP($F$13,convert_units,5,FALSE)*VLOOKUP($F$13,convert_units,7,FALSE)))^0.5*VLOOKUP($F$13,convert_units,6,FALSE)) | J33: =IF(F33="","",(2*((0.25*((I33*1000/VLOOKUP($F$13,convert_units,6,FALSE)))-30)))*VLOOKUP($F$13,convert_units,6,FALSE)/1000) | K33: =IF(F33="","",(F33-F32)/$H33) | L33: =Check_data!D33 -> 0 | M33: =TEXT(N33,"ddd") | N33: =IF(ISBLANK(F33),"",IF(K33="",Q32,Q32+$J$10/24)) | O33: =Check_data!E33 -> 0 | P33: =TEXT(Q33,"ddd") | Q33: =IF(ISBLANK(F33),"",IF(K33="",N33,N33+K33/(24*VLOOKUP($F$13,convert_units,7,FALSE)))) | R33: =IF(Check_data!B13=0,"",Check_data!B13) -> please fill in: Target TID, [target dose rate]
D34: 8 | E34: =Check_data!B34 -> 2 | G34: =Check_data!C34 -> 0 | H34: =IF(F34="","",$H$16) | I34: =IF(F34="","",(Activity_at_reload_date*Co60constant*self_absorption_coefficient*EXP(-LN(2)/half_life*(N34-(Date_of_reload))*(24*3600))/(H34/0.898*VLOOKUP($F$13,convert_units,5,FALSE)*VLOOKUP($F$13,convert_units,7,FALSE)))^0.5*VLOOKUP($F$13,convert_units,6,FALSE)) | J34: =IF(F34="","",(2*((0.25*((I34*1000/VLOOKUP($F$13,convert_units,6,FALSE)))-30)))*VLOOKUP($F$13,convert_units,6,FALSE)/1000) | K34: =IF(F34="","",(F34-F33)/$H34) | L34: =Check_data!D34 -> 0 | M34: =TEXT(N34,"ddd") | N34: =IF(ISBLANK(F34),"",IF(K34="",Q33,Q33+$J$10/24)) | O34: =Check_data!E34 -> 0 | P34: =TEXT(Q34,"ddd") | Q34: =IF(ISBLANK(F34),"",IF(K34="",N34,N34+K34/(24*VLOOKUP($F$13,convert_units,7,FALSE)))) | R34: =IF(Check_data!B14=0,"",Check_data!B14) -> please fill in: Target TID, [target dose rate]
D35: 9 | E35: =Check_data!B35 -> 2 | G35: =Check_data!C35 -> 0 | H35: =IF(F35="","",$H$16) | I35: =IF(F35="","",(Activity_at_reload_date*Co60constant*self_absorption_coefficient*EXP(-LN(2)/half_life*(N35-(Date_of_reload))*(24*3600))/(H35/0.898*VLOOKUP($F$13,convert_units,5,FALSE)*VLOOKUP($F$13,convert_units,7,FALSE)))^0.5*VLOOKUP($F$13,convert_units,6,FALSE)) | J35: =IF(F35="","",(2*((0.25*((I35*1000/VLOOKUP($F$13,convert_units,6,FALSE)))-30)))*VLOOKUP($F$13,convert_units,6,FALSE)/1000) | K35: =IF(F35="","",(F35-F34)/$H35) | L35: =Check_data!D35 -> 0 | M35: =TEXT(N35,"ddd") | N35: =IF(ISBLANK(F35),"",IF(K35="",Q34,Q34+$J$10/24)) | O35: =Check_data!E35 -> 0 | P35: =TEXT(Q35,"ddd") | Q35: =IF(ISBLANK(F35),"",IF(K35="",N35,N35+K35/(24*VLOOKUP($F$13,convert_units,7,FALSE)))) | R35: =IF(Check_data!B15=0,"",Check_data!B15) -> please fill in: Target TID, [target dose rate]
D36: 10 | E36: =Check_data!B36 -> 2 | G36: =Check_data!C36 -> 0 | H36: =IF(F36="","",$H$16) | I36: =IF(F36="","",(Activity_at_reload_date*Co60constant*self_absorption_coefficient*EXP(-LN(2)/half_life*(N36-(Date_of_reload))*(24*3600))/(H36/0.898*VLOOKUP($F$13,convert_units,5,FALSE)*VLOOKUP($F$13,convert_units,7,FALSE)))^0.5*VLOOKUP($F$13,convert_units,6,FALSE)) | J36: =IF(F36="","",(2*((0.25*((I36*1000/VLOOKUP($F$13,convert_units,6,FALSE)))-30)))*VLOOKUP($F$13,convert_units,6,FALSE)/1000) | K36: =IF(F36="","",(F36-F35)/$H36) | L36: =Check_data!D36 -> 0 | M36: =TEXT(N36,"ddd") | N36: =IF(ISBLANK(F36),"",IF(K36="",Q35,Q35+$J$10/24)) | O36: =Check_data!E36 -> 0 | P36: =TEXT(Q36,"ddd") | Q36: =IF(ISBLANK(F36),"",IF(K36="",N36,N36+K36/(24*VLOOKUP($F$13,convert_units,7,FALSE)))) | R36: =IF(Check_data!B16=0,"",Check_data!B16) -> please fill in: Target TID, [target dose rate]
D37: 11 | E37: =Check_data!B37 -> 2 | G37: =Check_data!C37 -> 0 | H37: =IF(F37="","",$H$16) | I37: =IF(F37="","",(Activity_at_reload_date*Co60constant*self_absorption_coefficient*EXP(-LN(2)/half_life*(N37-(Date_of_reload))*(24*3600))/(H37/0.898*VLOOKUP($F$13,convert_units,5,FALSE)*VLOOKUP($F$13,convert_units,7,FALSE)))^0.5*VLOOKUP($F$13,convert_units,6,FALSE)) | J37: =IF(F37="","",(2*((0.25*((I37*1000/VLOOKUP($F$13,convert_units,6,FALSE)))-30)))*VLOOKUP($F$13,convert_units,6,FALSE)/1000) | K37: =IF(F37="","",(F37-F36)/$H37) | L37: =Check_data!D37 -> 0 | M37: =TEXT(N37,"ddd") | N37: =IF(ISBLANK(F37),"",IF(K37="",Q36,Q36+$J$10/24)) | O37: =Check_data!E37 -> 0 | P37: =TEXT(Q37,"ddd") | Q37: =IF(ISBLANK(F37),"",IF(K37="",N37,N37+K37/(24*VLOOKUP($F$13,convert_units,7,FALSE)))) | R37: =IF(Check_data!B17=0,"",Check_data!B17) -> please fill in: Target TID, [target dose rate]
D38: 12 | E38: =Check_data!B38 -> 2 | G38: =Check_data!C38 -> 0 | H38: =IF(F38="","",$H$16) | I38: =IF(F38="","",(Activity_at_reload_date*Co60constant*self_absorption_coefficient*EXP(-LN(2)/half_life*(N38-(Date_of_reload))*(24*3600))/(H38/0.898*VLOOKUP($F$13,convert_units,5,FALSE)*VLOOKUP($F$13,convert_units,7,FALSE)))^0.5*VLOOKUP($F$13,convert_units,6,FALSE)) | J38: =IF(F38="","",(2*((0.25*((I38*1000/VLOOKUP($F$13,convert_units,6,FALSE)))-30)))*VLOOKUP($F$13,convert_units,6,FALSE)/1000) | K38: =IF(F38="","",(F38-F37)/$H38) | L38: =Check_data!D38 -> 0 | M38: =TEXT(N38,"ddd") | N38: =IF(ISBLANK(F38),"",IF(K38="",Q37,Q37+$J$10/24)) | O38: =Check_data!E38 -> 0 | P38: =TEXT(Q38,"ddd") | Q38: =IF(ISBLANK(F38),"",IF(K38="",N38,N38+K38/(24*VLOOKUP($F$13,convert_units,7,FALSE)))) | R38: =IF(Check_data!B18=0,"",Check_data!B18) -> please fill in: Target TID, [target dose rate]
K40: End of Test | L40: =Check_data!H23 -> 0 | M40: =TEXT(N40,"ddd") -> Tue | N40: =MAX(Q27:Q38)+$J$10/24 -> 46028.595

Sheet ESTEC_Public_holidays
A1: ESTEC Public Holidays
A2: 46023
A3: 46055
A4: 46118
A5: 46139
A6: 46156
A7: 46167
A8: 46380
A9: 46381
A10: 46384
A11: 46385
A12: 46386
A13: 46387

Sheet ESTEC_work_hrs
C1: (reference Sunday) | D1: 40545
D2: work starts | F2: work ends | H2: non-working day
A3: =WEEKDAY(D1) -> 1 | B3: Sunday | C3: =A3 -> 1 | D3: 0 | E3: 0 | F3: 0 | G3: 0 | H3: TRUE
A4: =IF(A3=7,1,A3+1) -> 2 | B4: Monday | C4: =A4 -> 2 | D4: 0.35415509 | E4: 0.39582176 | F4: 0.75001157 | G4: 0.81251157 | H4: FALSE
A5: =IF(A4=7,1,A4+1) -> 3 | B5: Tuesday | C5: =A5 -> 3 | D5: 0.35415509 | E5: 0.39582176 | F5: 0.75001157 | G5: 0.81251157 | H5: FALSE
A6: =IF(A5=7,1,A5+1) -> 4 | B6: Wednesday | C6: =A6 -> 4 | D6: 0.35415509 | E6: 0.39582176 | F6: 0.75001157 | G6: 0.81251157 | H6: FALSE
A7: =IF(A6=7,1,A6+1) -> 5 | B7: Thursday | C7: =A7 -> 5 | D7: 0.35415509 | E7: 0.39582176 | F7: 0.75001157 | G7: 0.81251157 | H7: FALSE
A8: =IF(A7=7,1,A7+1) -> 6 | B8: Friday | C8: =A8 -> 6 | D8: 0.35415509 | E8: 0.39582176 | F8: 0.75001157 | G8: 0.81251157 | H8: FALSE
A9: =IF(A8=7,1,A8+1) -> 7 | B9: Saturday | C9: =A9 -> 7 | D9: 0 | E9: 0 | F9: 0 | G9: 0 | H9: TRUE

Sheet Source
B1: Date of Reload: | C1: 44450.5 | F1: Activity at reload date: | G1: =G3*EXP(-LN(2)/(G8)*(C1-G2)*(24*3600)) -> 84.5579 | H1: [TBq] | P1: X-Ray Mass Attenuation Coefficients
B2: Activity Now : | C2: =NOW() -> 46043.49 | D2: =G3*EXP(-LN(2)/(G8)*(C2-G2)*(24*3600)) -> 47.651871 | E2: [TBq] | F2: Certificate Date: | G2: 44355.5
F3: Certificate activity: | G3: 87.5 | H3: [TBq] | P3: Table 1. Material constants assumed in the present evaluations for elemental media. Values are given for the ratio of atomic number-to-mass Z/A,
C4: D (dose rate) = α Γ Activity / distance^2 | P4: the mean excitation energy I, and the density ρ. Some density values are only nominal; those for Z = 85 and 87 were arbitrarily set to 10 in order to complete the calculations.
D5: with α (source self absorption coefficient) = | E5: 0.85 | F5: See xxxxxxxxx for the estimation of α | P5: Z | S5: Element | T5: Z/A | U5: I | V5: Density
K6: min. D.R.(Si): | L6: =ROUND((self_absorption_coefficient*Co60constant*D2)/((7.8)^2)*100*0.898,1) -> 22.1 | M6: 780 | N6: cm | U6: (eV) | V6: (g/cm3)
C7: year | D7: dd | E7: h | F7: mm | G7: s | K7: max D.R.(Si): | L7: =ROUND((self_absorption_coefficient*Co60constant*D2)/((0.4)^2)*100*0.898,0) -> 8404 | M7: 40 | N7: cm
B8: Co60 half life | C8: 5.271 | D8: 1925.28 | E8: =+D8*24 -> 46206.72 | F8: =+E8*60 -> 2772403.2 | G8: =+F8*60 -> 166344192
P9: 1 | Q9: H | S9: Hydrogen | T9: 0.99212 | U9: 19.2 | V9: 8.375e-05 | X9: =T9/T$101 -> 1.787346
B10: Co60 Γ constant in : | C10: 3.697e-13 | D10: [Gy sqm / Bq h] | P10: 2 | Q10: He | S10: Helium | T10: 0.49968 | U10: 41.8 | V10: 0.0001663 | X10: =T10/T$101 -> 0.90019457
C11: =+C10*100 -> 3.697e-11 | D11: [rad sqm / Bq h] | F11: ** constant value found in literature | P11: 3 | Q11: Li | S11: Lithium | T11: 0.43221 | U11: 40 | V11: 0.534 | X11: =T11/T$101 -> 0.77864452
C12: =+C11/60 -> 6.1616667e-13 | D12: [rad sqm / Bq min] | F12: Co60 Γ in document ORNL/RSIC-45/ KJ | P12: 4 | Q12: Be | S12: Beryllium | T12: 0.44384 | U12: 63.7 | V12: 1.848 | X12: =T12/T$101 -> 0.79959645
C13: =(C12*3.7*10^10) -> 0.022798167 | D13: [rad sqm / Ci min] | F13: Co60 half life in (http://www.nndc.bnl.gov/nudat2/reCenter.jsp?z=27&n=33) | P13: 5 | Q13: B | S13: Boron | T13: 0.46245 | U13: 76 | V13: 2.37 | X13: =T13/T$101 -> 0.83312315
C14: =C10*1000000000000 -> 0.3697 | D14: [Gy sqm / TBq h] | P14: 6 | Q14: C | S14: Carbon, Graphite | T14: 0.49954 | U14: 78 | V14: 1.7 | X14: =T14/T$101 -> 0.89994235
P15: 7 | Q15: N | S15: Nitrogen | T15: 0.49976 | U15: 82 | V15: 0.001165 | X15: =T15/T$101 -> 0.90033869
P16: 8 | Q16: O | S16: Oxygen | T16: 0.50002 | U16: 95 | V16: 0.001332 | X16: =T16/T$101 -> 0.90080709
P17: 9 | Q17: F | S17: Fluorine | T17: 0.47372 | U17: 115 | V17: 0.00158 | X17: =T17/T$101 -> 0.85342653
P18: 10 | Q18: Ne | S18: Neon | T18: 0.49555 | U18: 137 | V18: 0.0008385 | X18: =T18/T$101 -> 0.8927542
P19: 11 | Q19: Na | S19: Sodium | T19: 0.47847 | U19: 149 | V19: 0.971 | X19: =T19/T$101 -> 0.86198386
P20: 12 | Q20: Mg | S20: Magnesium | T20: 0.49373 | U20: 156 | V20: 1.74 | X20: =T20/T$101 -> 0.88947539
A21: Data of previous source | P21: 13 | Q21: Al | S21: Aluminum | T21: 0.48181 | U21: 166 | V21: 2.699 | X21: =T21/T$101 -> 0.86800101
B22: Date of Reload: | C22: 42511.5 | F22: Activity at reload date: | G22: =G24*EXP(-LN(2)/(G29)*(C22-G23)*(24*3600)) -> 82.069092 | H22: [TBq] | P22: 14 | Q22: Si | S22: Silicon | T22: 0.49848 | U22: 173 | V22: 2.33 | X22: =T22/T$101 -> 0.89803272
B23: Activity Now : | C23: =NOW() -> 46043.49 | D23: =G24*EXP(-LN(2)/(G29)*(C23-G23)*(24*3600)) -> 23.010719 | E23: [TBq] | F23: Certificate Date: | G23: 42459.5 | P23: 15 | Q23: P | S23: Phosphorus | T23: 0.48428 | U23: 173 | V23: 2.2 | X23: =T23/T$101 -> 0.87245082
F24: Certificate activity: | G24: 83.62 | H24: [TBq] | P24: 16 | Q24: S | S24: Sulfur | T24: 0.49897 | U24: 180 | V24: 2 | X24: =T24/T$101 -> 0.89891547
C25: D (dose rate) = α Γ Activity / distance^2 | P25: 17 | Q25: Cl | S25: Chlorine | T25: 0.47951 | U25: 174 | V25: 0.002995 | X25: =T25/T$101 -> 0.86385746
D26: with α (source self absorption coefficient) = | E26: 0.835 | F26: See ESA-TECQEC-LAB-TN-002461 for the estimation of α | P26: 18 | Q26: Ar | S26: Argon | T26: 0.45059 | U26: 188 | V26: 0.001662 | X26: =T26/T$101 -> 0.81175686
P27: 19 | Q27: K | S27: Potassium | T27: 0.48595 | U27: 190 | V27: 0.862 | X27: =T27/T$101 -> 0.87545939
C28: year | D28: dd | E28: h | F28: mm | G28: s | P28: 20 | Q28: Ca | S28: Calcium | T28: 0.49903 | U28: 191 | V28: 1.55 | X28: =T28/T$101 -> 0.89902356
B29: Co60 half life | C29: 5.271 | D29: 1925.28 | E29: =+D29*24 -> 46206.72 | F29: =+E29*60 -> 2772403.2 | G29: =+F29*60 -> 166344192 | P29: 21 | Q29: Sc | S29: Scandium | T29: 0.46712 | U29: 216 | V29: 2.989 | X29: =T29/T$101 -> 0.84153636
P30: 22 | Q30: Ti | S30: Titanium | T30: 0.45948 | U30: 233 | V30: 4.54 | X30: =T30/T$101 -> 0.82777257
B31: Co60 Γ constant in : | C31: 3.697e-13 | D31: [Gy sqm / Bq h] | P31: 23 | Q31: V | S31: Vanadium | T31: 0.4515 | U31: 245 | V31: 6.11 | X31: =T31/T$101 -> 0.81339627
C32: =+C31*100 -> 3.697e-11 | D32: [rad sqm / Bq h] | F32: ** constant value found in literature | P32: 24 | Q32: Cr | S32: Chromium | T32: 0.46157 | U32: 257 | V32: 7.18 | X32: =T32/T$101 -> 0.8315378
C33: =+C32/60 -> 6.1616667e-13 | D33: [rad sqm / Bq min] | F33: Co60 Γ in document ORNL/RSIC-45/ KJ | P33: 25 | Q33: Mn | S33: Manganese | T33: 0.45506 | U33: 272 | V33: 7.44 | X33: =T33/T$101 -> 0.81980976
C34: =(C33*3.7*10^10) -> 0.022798167 | D34: [rad sqm / Ci min] | F34: Co60 half life in (http://www.nndc.bnl.gov/nudat2/reCenter.jsp?z=27&n=33) | P34: 26 | Q34: Fe | S34: Iron | T34: 0.46556 | U34: 286 | V34: 7.874 | X34: =T34/T$101 -> 0.83872595
C35: =C31*1000000000000 -> 0.3697 | D35: [Gy sqm / TBq h] | P35: 27 | Q35: Co | S35: Cobalt | T35: 0.45815 | U35: 297 | V35: 8.9 | X35: =T35/T$101 -> 0.82537652
P36: 28 | Q36: Ni | S36: Nickel | T36: 0.47708 | U36: 311 | V36: 8.902 | X36: =T36/T$101 -> 0.85947971
P37: 29 | Q37: Cu | S37: Copper | T37: 0.45636 | U37: 322 | V37: 8.96 | X37: =T37/T$101 -> 0.82215176
P38: 30 | Q38: Zn | S38: Zinc | T38: 0.45879 | U38: 330 | V38: 7.133 | X38: =T38/T$101 -> 0.82652951
P39: 31 | Q39: Ga | S39: Gallium | T39: 0.44462 | U39: 334 | V39: 5.904 | X39: =T39/T$101 -> 0.80100166
P40: 32 | Q40: Ge | S40: Germanium | T40: 0.44071 | U40: 350 | V40: 5.323 | X40: =T40/T$101 -> 0.79395763
...

Sheet Unit_conversion
A1: Convert Units | M1: Dose from water to:
A2: index | B2: dose unit | C2: distance unit | D2: time unit | E2: dose unit conversion | F2: distance unit conversion | G2: time unit conversion | M2: material | O2: multiplying factor
A3: 1 | B3: Gy | C3: m | D3: hrs | E3: 1 | F3: 1 | G3: 1 | H3: <== | I3: Base References for units: Gy, Gy/hrs, meters | M3: Water | N3: H2O | O3: 1
A4: 2 | B4: Gy | C4: cm | D4: hrs | E4: 1 | F4: 100 | G4: 1 | M4: Silicon | N4: Si | O4: 0.898
A5: 3 | B5: Gy | C5: mm | D5: hrs | E5: 1 | F5: 1000 | G5: 1 | M5: Silicon Dioxide | N5: SiO2 | O5: 0.9
A6: 4 | B6: Gy | C6: m | D6: min | E6: 1 | F6: 1 | G6: 60 | M6: Gallium Arsenide | N6: GaAs | O6: 0.797
A7: 5 | B7: Gy | C7: cm | D7: min | E7: 1 | F7: 100 | G7: 60 | M7: Gallium Indium Arsenide | N7: InGaAs | O7: 0.786
A8: 6 | B8: Gy | C8: mm | D8: min | E8: 1 | F8: 1000 | G8: 60
A9: 7 | B9: Gy | C9: m | D9: s | E9: 1 | F9: 1 | G9: 3600
A10: 8 | B10: Gy | C10: cm | D10: s | E10: 1 | F10: 100 | G10: 3600
A11: 9 | B11: Gy | C11: mm | D11: s | E11: 1 | F11: 1000 | G11: 3600
A12: 10 | B12: rad | C12: m | D12: hrs | E12: 0.01 | F12: 1 | G12: 1
A13: 11 | B13: rad | C13: cm | D13: hrs | E13: 0.01 | F13: 100 | G13: 1
A14: 12 | B14: rad | C14: mm | D14: hrs | E14: 0.01 | F14: 1000 | G14: 1
A15: 13 | B15: rad | C15: m | D15: min | E15: 0.01 | F15: 1 | G15: 60
A16: 14 | B16: rad | C16: cm | D16: min | E16: 0.01 | F16: 100 | G16: 60
A17: 15 | B17: rad | C17: mm | D17: min | E17: 0.01 | F17: 1000 | G17: 60
A18: 16 | B18: rad | C18: m | D18: s | E18: 0.01 | F18: 1 | G18: 3600
A19: 17 | B19: rad | C19: cm | D19: s | E19: 0.01 | F19: 100 | G19: 3600
... A29: 27 | B29: krad | C29: mm | D29: s | E29: 10 | F29: 1000 | G29: 3600

Sheet Check_data
X1: p | Y1: priority and warning messages | Z1: flag
E2: max distance [m] | F2: min distance [m] | O2: D.R. [Gy/h] (in water) window | X2: 0 | Y2: - | Z2: 0 | AB2: 0= green (ok)
E3: 7.8 | F3: 0.4 | O3: 0.36 | X3: 1 | Y3: Dose Rate outside ISO 17025 accredited scope | Z3: 1 | AB3: 1= orange (warning) | AF3: Unit selection
O4: 72 | X4: 2 | Y4: Check personnel availability | Z4: 1 | AB4: 2= red (not feasible) | AE4: From Planner: | AF4: =TID_test_plan!F13 -> 11
B5: warning message indexes -> | C5: 9 | D5: 8 | E5: 7 | F5: 6 | G5: 5 | H5: 5 | I5: 4 | J5: 4 | K5: 3 | L5: 2 | M5: 3 | N5: 2 | O5: 1 | X5: 3 | Y5: No access - outside working hours | Z5: 2 | AE5: start | AF5: end | AG5: min DR [Gy/hrs] (water) | AH5: max DR [Gy/hrs] (water) | AJ5: geom.outside | AL5: ISO | AM5: Target DR [Gy/hrs] (water) | AP5: target D.R. | AQ5: Dose Unit | AR5: time unit | AS5: distance unit | AT5: material | AU5: C.F.
B6: warning message | C6: Fill TID | D6: TID Decreases | E6: ="D.R. to low (distance> "&E3&" m)" -> D.R. to low (distance> 7.8 m) | F6: ="D.R. to High (distance< "&F3&" m)" -> D.R. to High (distance< 0.4 m) | G6: 1st - Public holidays | H6: 2nd - Public holidays | I6: 1st - weekend | J6: 2nd - weekend | K6: 1st -outside work hours | L6: 1st -check work hours | M6: 2nd -outside work hours | N6: 2nd -check work hours | O6: Outside ISO 17025 scope | P6: additional criteria | X6: 4 | Y6: Weekend - no access to the facility | Z6: 2 | AJ6: too High | AK6: too Low | AL6: outside
A7: 1 | B7: =IF(VLOOKUP(MAX($C7:$P7),Warning_messages,2,FALSE)=0,"",VLOOKUP(MAX($C7:$P7),Warning_messages,2,FALSE)) -> - | C7: =IF(OR(TID_test_plan!F27="",TID_test_plan!F27=0),C$5,0) -> 0 | D7: =IF(TID_test_plan!F27<TID_test_plan!F26,D$5,0) -> 0 | E7: =IF(AK7,E$5,0) -> 0 | F7: =IF(AJ7,F$5,0) -> 0 | G7: =IF(ISERROR(VLOOKUP(TRUNC(TID_test_plan!N27,0),Public_Holidays,1,FALSE)),0,G$5) -> 0 | H7: =IF(ISERROR(VLOOKUP(TRUNC(TID_test_plan!Q27,0),Public_Holidays,1,FALSE)),0,H$5) -> 0 | I7: =IF(TID_test_plan!N27="",0,IF((VLOOKUP(WEEKDAY(TID_test_plan!N27),work_days,8,FALSE)),I$5,0)) -> 0 | J7: =IF(TID_test_plan!Q27="",0,IF((VLOOKUP(WEEKDAY(TID_test_plan!Q27),work_days,8,FALSE)),J$5,0)) -> 0 | K7: =IF(TID_test_plan!N27="",0,IF(AND((TID_test_plan!N27-TRUNC(TID_test_plan!N27))>VLOOKUP(WEEKDAY(TID_test_plan!N27),work_days,4,FALSE),(TID_test_plan!N27-TRUNC(TID_test_plan!N27))<VLOOKUP(WEEKDAY(TID_test_plan!N27),work_days,7,FALSE)),0,K$5)) -> 0 | L7: =IF(TID_test_plan!N27="",0,IF(AND((TID_test_plan!N27-TRUNC(TID_test_plan!N27))>VLOOKUP(WEEKDAY(TID_test_plan!N27),work_days,5,FALSE),(TID_test_plan!N27-TRUNC(TID_test_plan!N27))<VLOOKUP(WEEKDAY(TID_test_plan!N27),work_days,6,FALSE)),0,L$5)) -> 0 | M7: =IF(TID_test_plan!Q27="",0,IF(AND((TID_test_plan!Q27-TRUNC(TID_test_plan!Q27))>VLOOKUP(WEEKDAY(TID_test_plan!Q27),work_days,4,FALSE),(TID_test_plan!Q27-TRUNC(TID_test_plan!Q27))<VLOOKUP(WEEKDAY(TID_test_plan!Q27),work_days,7,FALSE)),0,M$5)) -> 0 | N7: =IF(TID_test_plan!Q27="",0,IF(AND((TID_test_plan!Q27-TRUNC(TID_test_plan!Q27))>VLOOKUP(WEEKDAY(TID_test_plan!Q27),work_days,5,FALSE),(TID_test_plan!Q27-TRUNC(TID_test_plan!Q27))<VLOOKUP(WEEKDAY(TID_test_plan!Q27),work_days,6,FALSE)),0,N$5)) -> 0 | O7: =IF((TID_test_plan!H27=""),0,IF(AL7,$O$5,"")) | X7: 5 | Y7: Public Holiday - no access to the Facility | Z7: 2 | AE7: =TID_test_plan!N27 -> 46027.396 | AF7: =TID_test_plan!Q27 -> 46028.553 | AG7: =IF(AF7="","",(self_absorption_coefficient*Co60constant*(Activity_at_reload_date*EXP(-LN(2)/(half_life)*(AF7-Date_of_reload)*(24*3600))))/((E$3)^2)) -> 0.24745402 | AH7: =IF(AE7="","",(self_absorption_coefficient*Co60constant*(Activity_at_reload_date*EXP(-LN(2)/(half_life)*(AE7-Date_of_reload)*(24*3600))))/((F$3)^2)) -> 94.133608 | AJ7: =AM7>AH7 -> FALSE | AK7: =AM7<AG7 -> FALSE | AL7: =IF(AM7="",FALSE,OR(AM7>$O$4,AM7<$O$3)) -> FALSE | AM7: =IF(AP7="","",AP7*VLOOKUP($AF$4,convert_units,5,FALSE)*VLOOKUP($AF$4,convert_units,7,FALSE)/VLOOKUP(AT7,material_CF,2,FALSE)) -> 4.0089087 | AP7: =TID_test_plan!H27 -> 360 | AQ7: =VLOOKUP(TID_test_plan!$F$13,convert_units,2,FALSE) -> rad | AR7: =VLOOKUP(TID_test_plan!$F$13,convert_units,4,FALSE) -> hrs | AS7: =VLOOKUP(TID_test_plan!$F$13,convert_units,3,FALSE) -> cm | AT7: Si | AU7: =VLOOKUP(AT7,material_CF,2,FALSE) -> 0.898
A8: 2 | B8: =IF(VLOOKUP(MAX($C8:$P8),Warning_messages,2,FALSE)=0,"",VLOOKUP(MAX($C8:$P8),Warning_messages,2,FALSE)) -> please fill in: Target TID, [target dose rate] | C8: =IF(OR(TID_test_plan!F28="",TID_test_plan!F28=0),C$5,0) -> 9 | D8: =IF(TID_test_plan!F28<TID_test_plan!F27,D$5,0) -> 8 | E8: =IF(AK8,E$5,0) -> 0 | F8: =IF(AJ8,F$5,0) -> 0 | G8: =IF(ISERROR(VLOOKUP(TRUNC(TID_test_plan!N28,0),Public_Holidays,1,FALSE)),0,G$5) -> 0 | H8: =IF(ISERROR(VLOOKUP(TRUNC(TID_test_plan!Q28,0),Public_Holidays,1,FALSE)),0,H$5) -> 0 | I8: =IF(TID_test_plan!N28="",0,IF((VLOOKUP(WEEKDAY(TID_test_plan!N28),work_days,8,FALSE)),I$5,0)) -> 0 | J8: =IF(TID_test_plan!Q28="",0,IF((VLOOKUP(WEEKDAY(TID_test_plan!Q28),work_days,8,FALSE)),J$5,0)) -> 0 | K8: =IF(TID_test_plan!N28="",0,IF(AND((TID_test_plan!N28-TRUNC(TID_test_plan!N28))>VLOOKUP(WEEKDAY(TID_test_plan!N28),work_days,4,FALSE),(TID_test_plan!N28-TRUNC(TID_test_plan!N28))<VLOOKUP(WEEKDAY(TID_test_plan!N28),work_days,7,FALSE)),0,K$5)) -> 0 | L8: =IF(TID_test_plan!N28="",0,IF(AND((TID_test_plan!N28-TRUNC(TID_test_plan!N28))>VLOOKUP(WEEKDAY(TID_test_plan!N28),work_days,5,FALSE),(TID_test_plan!N28-TRUNC(TID_test_plan!N28))<VLOOKUP(WEEKDAY(TID_test_plan!N28),work_days,6,FALSE)),0,L$5)) -> 0 | M8: =IF(TID_test_plan!Q28="",0,IF(AND((TID_test_plan!Q28-TRUNC(TID_test_plan!Q28))>VLOOKUP(WEEKDAY(TID_test_plan!Q28),work_days,4,FALSE),(TID_test_plan!Q28-TRUNC(TID_test_plan!Q28))<VLOOKUP(WEEKDAY(TID_test_plan!Q28),work_days,7,FALSE)),0,M$5)) -> 0 | N8: =IF(TID_test_plan!Q28="",0,IF(AND((TID_test_plan!Q28-TRUNC(TID_test_plan!Q28))>VLOOKUP(WEEKDAY(TID_test_plan!Q28),work_days,5,FALSE),(TID_test_plan!Q28-TRUNC(TID_test_plan!Q28))<VLOOKUP(WEEKDAY(TID_test_plan!Q28),work_days,6,FALSE)),0,N$5)) -> 0 | O8: =IF((TID_test_plan!H28=""),0,IF(AL8,$O$5,"")) -> 0 | X8: 6 | Y8: Dose Rate too HIGH - please decrease or contact the Facility | Z8: 2 | AE8: =TID_test_plan!N28 | AF8: =TID_test_plan!Q28 | AG8: =IF(AF8="","",(self_absorption_coefficient*Co60constant*(Activity_at_reload_date*EXP(-LN(2)/(half_life)*(AF8-Date_of_reload)*(24*3600))))/((E$3)^2)) | AH8: =IF(AE8="","",(self_absorption_coefficient*Co60constant*(Activity_at_reload_date*EXP(-LN(2)/(half_life)*(AE8-Date_of_reload)*(24*3600))))/((F$3)^2)) | AJ8: =AM8>AH8 -> FALSE | AK8: =AM8<AG8 -> FALSE | AL8: =IF(AM8="",FALSE,OR(AM8>$O$4,AM8<$O$3)) -> FALSE | AM8: =IF(AP8="","",AP8*VLOOKUP($AF$4,convert_units,5,FALSE)*VLOOKUP($AF$4,convert_units,7,FALSE)/VLOOKUP(AT8,material_CF,2,FALSE)) | AP8: =TID_test_plan!H28 | AQ8: =VLOOKUP(TID_test_plan!$F$13,convert_units,2,FALSE) -> rad | AR8: =VLOOKUP(TID_test_plan!$F$13,convert_units,4,FALSE) -> hrs | AS8: =VLOOKUP(TID_test_plan!$F$13,convert_units,3,FALSE) -> cm | AT8: Si | AU8: =VLOOKUP(AT8,material_CF,2,FALSE) -> 0.898
A9: 3 | B9: =IF(VLOOKUP(MAX($C9:$P9),Warning_messages,2,FALSE)=0,"",VLOOKUP(MAX($C9:$P9),Warning_messages,2,FALSE)) -> please fill in: Target TID, [target dose rate] | C9: =IF(OR(TID_test_plan!F29="",TID_test_plan!F29=0),C$5,0) -> 9 | D9: =IF(TID_test_plan!F29<TID_test_plan!F28,D$5,0) -> 0 | E9: =IF(AK9,E$5,0) -> 0 | F9: =IF(AJ9,F$5,0) -> 0 | G9: =IF(ISERROR(VLOOKUP(TRUNC(TID_test_plan!N29,0),Public_Holidays,1,FALSE)),0,G$5) -> 0 | H9: =IF(ISERROR(VLOOKUP(TRUNC(TID_test_plan!Q29,0),Public_Holidays,1,FALSE)),0,H$5) -> 0 | I9: =IF(TID_test_plan!N29="",0,IF((VLOOKUP(WEEKDAY(TID_test_plan!N29),work_days,8,FALSE)),I$5,0)) -> 0 | J9: =IF(TID_test_plan!Q29="",0,IF((VLOOKUP(WEEKDAY(TID_test_plan!Q29),work_days,8,FALSE)),J$5,0)) -> 0 | K9: =IF(TID_test_plan!N29="",0,IF(AND((TID_test_plan!N29-TRUNC(TID_test_plan!N29))>VLOOKUP(WEEKDAY(TID_test_plan!N29),work_days,4,FALSE),(TID_test_plan!N29-TRUNC(TID_test_plan!N29))<VLOOKUP(WEEKDAY(TID_test_plan!N29),work_days,7,FALSE)),0,K$5)) -> 0 | L9: =IF(TID_test_plan!N29="",0,IF(AND((TID_test_plan!N29-TRUNC(TID_test_plan!N29))>VLOOKUP(WEEKDAY(TID_test_plan!N29),work_days,5,FALSE),(TID_test_plan!N29-TRUNC(TID_test_plan!N29))<VLOOKUP(WEEKDAY(TID_test_plan!N29),work_days,6,FALSE)),0,L$5)) -> 0 | M9: =IF(TID_test_plan!Q29="",0,IF(AND((TID_test_plan!Q29-TRUNC(TID_test_plan!Q29))>VLOOKUP(WEEKDAY(TID_test_plan!Q29),work_days,4,FALSE),(TID_test_plan!Q29-TRUNC(TID_test_plan!Q29))<VLOOKUP(WEEKDAY(TID_test_plan!Q29),work_days,7,FALSE)),0,M$5)) -> 0 | N9: =IF(TID_test_plan!Q29="",0,IF(AND((TID_test_plan!Q29-TRUNC(TID_test_plan!Q29))>VLOOKUP(WEEKDAY(TID_test_plan!Q29),work_days,5,FALSE),(TID_test_plan!Q29-TRUNC(TID_test_plan!Q29))<VLOOKUP(WEEKDAY(TID_test_plan!Q29),work_days,6,FALSE)),0,N$5)) -> 0 | O9: =IF((TID_test_plan!H29=""),0,IF(AL9,$O$5,"")) -> 0 | X9: 7 | Y9: Dose Rate too LOW - please increase its value or contact Facility | Z9: 2 | AE9: =TID_test_plan!N29 | AF9: =TID_test_plan!Q29 | AG9: =IF(AF9="","",(self_absorption_coefficient*Co60constant*(Activity_at_reload_date*EXP(-LN(2)/(half_life)*(AF9-Date_of_reload)*(24*3600))))/((E$3)^2)) | AH9: =IF(AE9="","",(self_absorption_coefficient*Co60constant*(Activity_at_reload_date*EXP(-LN(2)/(half_life)*(AE9-Date_of_reload)*(24*3600))))/((F$3)^2)) | AJ9: =AM9>AH9 -> FALSE | AK9: =AM9<AG9 -> FALSE | AL9: =IF(AM9="",FALSE,OR(AM9>$O$4,AM9<$O$3)) -> FALSE | AM9: =IF(AP9="","",AP9*VLOOKUP($AF$4,convert_units,5,FALSE)*VLOOKUP($AF$4,convert_units,7,FALSE)/VLOOKUP(AT9,material_CF,2,FALSE)) | AP9: =TID_test_plan!H29 | AQ9: =VLOOKUP(TID_test_plan!$F$13,convert_units,2,FALSE) -> rad | AR9: =VLOOKUP(TID_test_plan!$F$13,convert_units,4,FALSE) -> hrs | AS9: =VLOOKUP(TID_test_plan!$F$13,convert_units,3,FALSE) -> cm | AT9: Si | AU9: =VLOOKUP(AT9,material_CF,2,FALSE) -> 0.898
A10: 4 | B10: =IF(VLOOKUP(MAX($C10:$P10),Warning_messages,2,FALSE)=0,"",VLOOKUP(MAX($C10:$P10),Warning_messages,2,FALSE)) -> please fill in: Target TID, [target dose rate] | C10: =IF(OR(TID_test_plan!F30="",TID_test_plan!F30=0),C$5,0) -> 9 | D10: =IF(TID_test_plan!F30<TID_test_plan!F29,D$5,0) -> 0 | E10: =IF(AK10,E$5,0) -> 0 | F10: =IF(AJ10,F$5,0) -> 0 | G10: =IF(ISERROR(VLOOKUP(TRUNC(TID_test_plan!N30,0),Public_Holidays,1,FALSE)),0,G$5) -> 0 | H10: =IF(ISERROR(VLOOKUP(TRUNC(TID_test_plan!Q30,0),Public_Holidays,1,FALSE)),0,H$5) -> 0 | I10: =IF(TID_test_plan!N30="",0,IF((VLOOKUP(WEEKDAY(TID_test_plan!N30),work_days,8,FALSE)),I$5,0)) -> 0 | J10: =IF(TID_test_plan!Q30="",0,IF((VLOOKUP(WEEKDAY(TID_test_plan!Q30),work_days,8,FALSE)),J$5,0)) -> 0 | K10: =IF(TID_test_plan!N30="",0,IF(AND((TID_test_plan!N30-TRUNC(TID_test_plan!N30))>VLOOKUP(WEEKDAY(TID_test_plan!N30),work_days,4,FALSE),(TID_test_plan!N30-TRUNC(TID_test_plan!N30))<VLOOKUP(WEEKDAY(TID_test_plan!N30),work_days,7,FALSE)),0,K$5)) -> 0 | L10: =IF(TID_test_plan!N30="",0,IF(AND((TID_test_plan!N30-TRUNC(TID_test_plan!N30))>VLOOKUP(WEEKDAY(TID_test_plan!N30),work_days,5,FALSE),(TID_test_plan!N30-TRUNC(TID_test_plan!N30))<VLOOKUP(WEEKDAY(TID_test_plan!N30),work_days,6,FALSE)),0,L$5)) -> 0 | M10: =IF(TID_test_plan!Q30="",0,IF(AND((TID_test_plan!Q30-TRUNC(TID_test_plan!Q30))>VLOOKUP(WEEKDAY(TID_test_plan!Q30),work_days,4,FALSE),(TID_test_plan!Q30-TRUNC(TID_test_plan!Q30))<VLOOKUP(WEEKDAY(TID_test_plan!Q30),work_days,7,FALSE)),0,M$5)) -> 0 | N10: =IF(TID_test_plan!Q30="",0,IF(AND((TID_test_plan!Q30-TRUNC(TID_test_plan!Q30))>VLOOKUP(WEEKDAY(TID_test_plan!Q30),work_days,5,FALSE),(TID_test_plan!Q30-TRUNC(TID_test_plan!Q30))<VLOOKUP(WEEKDAY(TID_test_plan!Q30),work_days,6,FALSE)),0,N$5)) -> 0 | O10: =IF((TID_test_plan!H30=""),0,IF(AL10,$O$5,"")) -> 0 | X10: 8 | Y10: Target Total Dose CANNOT be decreased | Z10: 2 | AE10: =TID_test_plan!N30 | AF10: =TID_test_plan!Q30 | AG10: =IF(AF10="","",(self_absorption_coefficient*Co60constant*(Activity_at_reload_date*EXP(-LN(2)/(half_life)*(AF10-Date_of_reload)*(24*3600))))/((E$3)^2)) | AH10: =IF(AE10="","",(self_absorption_coefficient*Co60constant*(Activity_at_reload_date*EXP(-LN(2)/(half_life)*(AE10-Date_of_reload)*(24*3600))))/((F$3)^2)) | AJ10: =AM10>AH10 -> FALSE | AK10: =AM10<AG10 -> FALSE | AL10: =IF(AM10="",FALSE,OR(AM10>$O$4,AM10<$O$3)) -> FALSE | AM10: =IF(AP10="","",AP10*VLOOKUP($AF$4,convert_units,5,FALSE)*VLOOKUP($AF$4,convert_units,7,FALSE)/VLOOKUP(AT10,material_CF,2,FALSE)) | AP10: =TID_test_plan!H30 | AQ10: =VLOOKUP(TID_test_plan!$F$13,convert_units,2,FALSE) -> rad | AR10: =VLOOKUP(TID_test_plan!$F$13,convert_units,4,FALSE) -> hrs | AS10: =VLOOKUP(TID_test_plan!$F$13,convert_units,3,FALSE) -> cm | AT10: Si | AU10: =VLOOKUP(AT10,material_CF,2,FALSE) -> 0.898
A11: 5 | B11: =IF(VLOOKUP(MAX($C11:$P11),Warning_messages,2,FALSE)=0,"",VLOOKUP(MAX($C11:$P11),Warning_messages,2,FALSE)) -> please fill in: Target TID, [target dose rate] | C11: =IF(OR(TID_test_plan!F31="",TID_test_plan!F31=0),C$5,0) -> 9 | D11: =IF(TID_test_plan!F31<TID_test_plan!F30,D$5,0) -> 0 | E11: =IF(AK11,E$5,0) -> 0 | F11: =IF(AJ11,F$5,0) -> 0 | G11: =IF(ISERROR(VLOOKUP(TRUNC(TID_test_plan!N31,0),Public_Holidays,1,FALSE)),0,G$5) -> 0 | H11: =IF(ISERROR(VLOOKUP(TRUNC(TID_test_plan!Q31,0),Public_Holidays,1,FALSE)),0,H$5) -> 0 | I11: =IF(TID_test_plan!N31="",0,IF((VLOOKUP(WEEKDAY(TID_test_plan!N31),work_days,8,FALSE)),I$5,0)) -> 0 | J11: =IF(TID_test_plan!Q31="",0,IF((VLOOKUP(WEEKDAY(TID_test_plan!Q31),work_days,8,FALSE)),J$5,0)) -> 0 | K11: =IF(TID_test_plan!N31="",0,IF(AND((TID_test_plan!N31-TRUNC(TID_test_plan!N31))>VLOOKUP(WEEKDAY(TID_test_plan!N31),work_days,4,FALSE),(TID_test_plan!N31-TRUNC(TID_test_plan!N31))<VLOOKUP(WEEKDAY(TID_test_plan!N31),work_days,7,FALSE)),0,K$5)) -> 0 | L11: =IF(TID_test_plan!N31="",0,IF(AND((TID_test_plan!N31-TRUNC(TID_test_plan!N31))>VLOOKUP(WEEKDAY(TID_test_plan!N31),work_days,5,FALSE),(TID_test_plan!N31-TRUNC(TID_test_plan!N31))<VLOOKUP(WEEKDAY(TID_test_plan!N31),work_days,6,FALSE)),0,L$5)) -> 0 | M11: =IF(TID_test_plan!Q31="",0,IF(AND((TID_test_plan!Q31-TRUNC(TID_test_plan!Q31))>VLOOKUP(WEEKDAY(TID_test_plan!Q31),work_days,4,FALSE),(TID_test_plan!Q31-TRUNC(TID_test_plan!Q31))<VLOOKUP(WEEKDAY(TID_test_plan!Q31),work_days,7,FALSE)),0,M$5)) -> 0 | N11: =IF(TID_test_plan!Q31="",0,IF(AND((TID_test_plan!Q31-TRUNC(TID_test_plan!Q31))>VLOOKUP(WEEKDAY(TID_test_plan!Q31),work_days,5,FALSE),(TID_test_plan!Q31-TRUNC(TID_test_plan!Q31))<VLOOKUP(WEEKDAY(TID_test_plan!Q31),work_days,6,FALSE)),0,N$5)) -> 0 | O11: =IF((TID_test_plan!H31=""),0,IF(AL11,$O$5,"")) -> 0 | X11: 9 | Y11: please fill in: Target TID, [target dose rate] | Z11: 2 | AE11: =TID_test_plan!N31 | AF11: =TID_test_plan!Q31 | AG11: =IF(AF11="","",(self_absorption_coefficient*Co60constant*(Activity_at_reload_date*EXP(-LN(2)/(half_life)*(AF11-Date_of_reload)*(24*3600))))/((E$3)^2)) | AH11: =IF(AE11="","",(self_absorption_coefficient*Co60constant*(Activity_at_reload_date*EXP(-LN(2)/(half_life)*(AE11-Date_of_reload)*(24*3600))))/((F$3)^2)) | AJ11: =AM11>AH11 -> FALSE | AK11: =AM11<AG11 -> FALSE | AL11: =IF(AM11="",FALSE,OR(AM11>$O$4,AM11<$O$3)) -> FALSE | AM11: =IF(AP11="","",AP11*VLOOKUP($AF$4,convert_units,5,FALSE)*VLOOKUP($AF$4,convert_units,7,FALSE)/VLOOKUP(AT11,material_CF,2,FALSE)) | AP11: =TID_test_plan!H31 | AQ11: =VLOOKUP(TID_test_plan!$F$13,convert_units,2,FALSE) -> rad | AR11: =VLOOKUP(TID_test_plan!$F$13,convert_units,4,FALSE) -> hrs | AS11: =VLOOKUP(TID_test_plan!$F$13,convert_units,3,FALSE) -> cm | AT11: Si | AU11: =VLOOKUP(AT11,material_CF,2,FALSE) -> 0.898
A12: 6 | B12: =IF(VLOOKUP(MAX($C12:$P12),Warning_messages,2,FALSE)=0,"",VLOOKUP(MAX($C12:$P12),Warning_messages,2,FALSE)) -> please fill in: Target TID, [target dose rate] | C12: =IF(OR(TID_test_plan!F32="",TID_test_plan!F32=0),C$5,0) -> 9 | D12: =IF(TID_test_plan!F32<TID_test_plan!F31,D$5,0) -> 0 | E12: =IF(AK12,E$5,0) -> 0 | F12: =IF(AJ12,F$5,0) -> 0 | G12: =IF(ISERROR(VLOOKUP(TRUNC(TID_test_plan!N32,0),Public_Holidays,1,FALSE)),0,G$5) -> 0 | H12: =IF(ISERROR(VLOOKUP(TRUNC(TID_test_plan!Q32,0),Public_Holidays,1,FALSE)),0,H$5) -> 0 | I12: =IF(TID_test_plan!N32="",0,IF((VLOOKUP(WEEKDAY(TID_test_plan!N32),work_days,8,FALSE)),I$5,0)) -> 0 | J12: =IF(TID_test_plan!Q32="",0,IF((VLOOKUP(WEEKDAY(TID_test_plan!Q32),work_days,8,FALSE)),J$5,0)) -> 0 | K12: =IF(TID_test_plan!N32="",0,IF(AND((TID_test_plan!N32-TRUNC(TID_test_plan!N32))>VLOOKUP(WEEKDAY(TID_test_plan!N32),work_days,4,FALSE),(TID_test_plan!N32-TRUNC(TID_test_plan!N32))<VLOOKUP(WEEKDAY(TID_test_plan!N32),work_days,7,FALSE)),0,K$5)) -> 0 | L12: =IF(TID_test_plan!N32="",0,IF(AND((TID_test_plan!N32-TRUNC(TID_test_plan!N32))>VLOOKUP(WEEKDAY(TID_test_plan!N32),work_days,5,FALSE),(TID_test_plan!N32-TRUNC(TID_test_plan!N32))<VLOOKUP(WEEKDAY(TID_test_plan!N32),work_days,6,FALSE)),0,L$5)) -> 0 | M12: =IF(TID_test_plan!Q32="",0,IF(AND((TID_test_plan!Q32-TRUNC(TID_test_plan!Q32))>VLOOKUP(WEEKDAY(TID_test_plan!Q32),work_days,4,FALSE),(TID_test_plan!Q32-TRUNC(TID_test_plan!Q32))<VLOOKUP(WEEKDAY(TID_test_plan!Q32),work_days,7,FALSE)),0,M$5)) -> 0 | N12: =IF(TID_test_plan!Q32="",0,IF(AND((TID_test_plan!Q32-TRUNC(TID_test_plan!Q32))>VLOOKUP(WEEKDAY(TID_test_plan!Q32),work_days,5,FALSE),(TID_test_plan!Q32-TRUNC(TID_test_plan!Q32))<VLOOKUP(WEEKDAY(TID_test_plan!Q32),work_days,6,FALSE)),0,N$5)) -> 0 | O12: =IF((TID_test_plan!H32=""),0,IF(AL12,$O$5,"")) -> 0 | AE12: =TID_test_plan!N32 | AF12: =TID_test_plan!Q32 | AG12: =IF(AF12="","",(self_absorption_coefficient*Co60constant*(Activity_at_reload_date*EXP(-LN(2)/(half_life)*(AF12-Date_of_reload)*(24*3600))))/((E$3)^2)) | AH12: =IF(AE12="","",(self_absorption_coefficient*Co60constant*(Activity_at_reload_date*EXP(-LN(2)/(half_life)*(AE12-Date_of_reload)*(24*3600))))/((F$3)^2)) | AJ12: =AM12>AH12 -> FALSE | AK12: =AM12<AG12 -> FALSE | AL12: =IF(AM12="",FALSE,OR(AM12>$O$4,AM12<$O$3)) -> FALSE | AM12: =IF(AP12="","",AP12*VLOOKUP($AF$4,convert_units,5,FALSE)*VLOOKUP($AF$4,convert_units,7,FALSE)/VLOOKUP(AT12,material_CF,2,FALSE)) | AP12: =TID_test_plan!H32 | AQ12: =VLOOKUP(TID_test_plan!$F$13,convert_units,2,FALSE) -> rad | AR12: =VLOOKUP(TID_test_plan!$F$13,convert_units,4,FALSE) -> hrs | AS12: =VLOOKUP(TID_test_plan!$F$13,convert_units,3,FALSE) -> cm | AT12: Si | AU12: =VLOOKUP(AT12,material_CF,2,FALSE) -> 0.898
A13: 7 | B13: =IF(VLOOKUP(MAX($C13:$P13),Warning_messages,2,FALSE)=0,"",VLOOKUP(MAX($C13:$P13),Warning_messages,2,FALSE)) -> please fill in: Target TID, [target dose rate] | C13: =IF(OR(TID_test_plan!F33="",TID_test_plan!F33=0),C$5,0) -> 9 | D13: =IF(TID_test_plan!F33<TID_test_plan!F32,D$5,0) -> 0 | E13: =IF(AK13,E$5,0) -> 0 | F13: =IF(AJ13,F$5,0) -> 0 | G13: =IF(ISERROR(VLOOKUP(TRUNC(TID_test_plan!N33,0),Public_Holidays,1,FALSE)),0,G$5) -> 0 | H13: =IF(ISERROR(VLOOKUP(TRUNC(TID_test_plan!Q33,0),Public_Holidays,1,FALSE)),0,H$5) -> 0 | I13: =IF(TID_test_plan!N33="",0,IF((VLOOKUP(WEEKDAY(TID_test_plan!N33),work_days,8,FALSE)),I$5,0)) -> 0 | J13: =IF(TID_test_plan!Q33="",0,IF((VLOOKUP(WEEKDAY(TID_test_plan!Q33),work_days,8,FALSE)),J$5,0)) -> 0 | K13: =IF(TID_test_plan!N33="",0,IF(AND((TID_test_plan!N33-TRUNC(TID_test_plan!N33))>VLOOKUP(WEEKDAY(TID_test_plan!N33),work_days,4,FALSE),(TID_test_plan!N33-TRUNC(TID_test_plan!N33))<VLOOKUP(WEEKDAY(TID_test_plan!N33),work_days,7,FALSE)),0,K$5)) -> 0 | L13: =IF(TID_test_plan!N33="",0,IF(AND((TID_test_plan!N33-TRUNC(TID_test_plan!N33))>VLOOKUP(WEEKDAY(TID_test_plan!N33),work_days,5,FALSE),(TID_test_plan!N33-TRUNC(TID_test_plan!N33))<VLOOKUP(WEEKDAY(TID_test_plan!N33),work_days,6,FALSE)),0,L$5)) -> 0 | M13: =IF(TID_test_plan!Q33="",0,IF(AND((TID_test_plan!Q33-TRUNC(TID_test_plan!Q33))>VLOOKUP(WEEKDAY(TID_test_plan!Q33),work_days,4,FALSE),(TID_test_plan!Q33-TRUNC(TID_test_plan!Q33))<VLOOKUP(WEEKDAY(TID_test_plan!Q33),work_days,7,FALSE)),0,M$5)) -> 0 | N13: =IF(TID_test_plan!Q33="",0,IF(AND((TID_test_plan!Q33-TRUNC(TID_test_plan!Q33))>VLOOKUP(WEEKDAY(TID_test_plan!Q33),work_days,5,FALSE),(TID_test_plan!Q33-TRUNC(TID_test_plan!Q33))<VLOOKUP(WEEKDAY(TID_test_plan!Q33),work_days,6,FALSE)),0,N$5)) -> 0 | O13: =IF((TID_test_plan!H33=""),0,IF(AL13,$O$5,"")) -> 0 | AE13: =TID_test_plan!N33 | AF13: =TID_test_plan!Q33 | AG13: =IF(AF13="","",(self_absorption_coefficient*Co60constant*(Activity_at_reload_date*EXP(-LN(2)/(half_life)*(AF13-Date_of_reload)*(24*3600))))/((E$3)^2)) | AH13: =IF(AE13="","",(self_absorption_coefficient*Co60constant*(Activity_at_reload_date*EXP(-LN(2)/(half_life)*(AE13-Date_of_reload)*(24*3600))))/((F$3)^2)) | AJ13: =AM13>AH13 -> FALSE | AK13: =AM13<AG13 -> FALSE | AL13: =IF(AM13="",FALSE,OR(AM13>$O$4,AM13<$O$3)) -> FALSE | AM13: =IF(AP13="","",AP13*VLOOKUP($AF$4,convert_units,5,FALSE)*VLOOKUP($AF$4,convert_units,7,FALSE)/VLOOKUP(AT13,material_CF,2,FALSE)) | AP13: =TID_test_plan!H33 | AQ13: =VLOOKUP(TID_test_plan!$F$13,convert_units,2,FALSE) -> rad | AR13: =VLOOKUP(TID_test_plan!$F$13,convert_units,4,FALSE) -> hrs | AS13: =VLOOKUP(TID_test_plan!$F$13,convert_units,3,FALSE) -> cm | AT13: Si | AU13: =VLOOKUP(AT13,material_CF,2,FALSE) -> 0.898
A14: 8 | B14: =IF(VLOOKUP(MAX($C14:$P14),Warning_messages,2,FALSE)=0,"",VLOOKUP(MAX($C14:$P14),Warning_messages,2,FALSE)) -> please fill in: Target TID, [target dose rate] | C14: =IF(OR(TID_test_plan!F34="",TID_test_plan!F34=0),C$5,0) -> 9 | D14: =IF(TID_test_plan!F34<TID_test_plan!F33,D$5,0) -> 0 | E14: =IF(AK14,E$5,0) -> 0 | F14: =IF(AJ14,F$5,0) -> 0 | G14: =IF(ISERROR(VLOOKUP(TRUNC(TID_test_plan!N34,0),Public_Holidays,1,FALSE)),0,G$5) -> 0 | H14: =IF(ISERROR(VLOOKUP(TRUNC(TID_test_plan!Q34,0),Public_Holidays,1,FALSE)),0,H$5) -> 0 | I14: =IF(TID_test_plan!N34="",0,IF((VLOOKUP(WEEKDAY(TID_test_plan!N34),work_days,8,FALSE)),I$5,0)) -> 0 | J14: =IF(TID_test_plan!Q34="",0,IF((VLOOKUP(WEEKDAY(TID_test_plan!Q34),work_days,8,FALSE)),J$5,0)) -> 0 | K14: =IF(TID_test_plan!N34="",0,IF(AND((TID_test_plan!N34-TRUNC(TID_test_plan!N34))>VLOOKUP(WEEKDAY(TID_test_plan!N34),work_days,4,FALSE),(TID_test_plan!N34-TRUNC(TID_test_plan!N34))<VLOOKUP(WEEKDAY(TID_test_plan!N34),work_days,7,FALSE)),0,K$5)) -> 0 | L14: =IF(TID_test_plan!N34="",0,IF(AND((TID_test_plan!N34-TRUNC(TID_test_plan!N34))>VLOOKUP(WEEKDAY(TID_test_plan!N34),work_days,5,FALSE),(TID_test_plan!N34-TRUNC(TID_test_plan!N34))<VLOOKUP(WEEKDAY(TID_test_plan!N34),work_days,6,FALSE)),0,L$5)) -> 0 | M14: =IF(TID_test_plan!Q34="",0,IF(AND((TID_test_plan!Q34-TRUNC(TID_test_plan!Q34))>VLOOKUP(WEEKDAY(TID_test_plan!Q34),work_days,4,FALSE),(TID_test_plan!Q34-TRUNC(TID_test_plan!Q34))<VLOOKUP(WEEKDAY(TID_test_plan!Q34),work_days,7,FALSE)),0,M$5)) -> 0 | N14: =IF(TID_test_plan!Q34="",0,IF(AND((TID_test_plan!Q34-TRUNC(TID_test_plan!Q34))>VLOOKUP(WEEKDAY(TID_test_plan!Q34),work_days,5,FALSE),(TID_test_plan!Q34-TRUNC(TID_test_plan!Q34))<VLOOKUP(WEEKDAY(TID_test_plan!Q34),work_days,6,FALSE)),0,N$5)) -> 0 | O14: =IF((TID_test_plan!H34=""),0,IF(AL14,$O$5,"")) -> 0 | AE14: =TID_test_plan!N34 | AF14: =TID_test_plan!Q34 | AG14: =IF(AF14="","",(self_absorption_coefficient*Co60constant*(Activity_at_reload_date*EXP(-LN(2)/(half_life)*(AF14-Date_of_reload)*(24*3600))))/((E$3)^2)) | AH14: =IF(AE14="","",(self_absorption_coefficient*Co60constant*(Activity_at_reload_date*EXP(-LN(2)/(half_life)*(AE14-Date_of_reload)*(24*3600))))/((F$3)^2)) | AJ14: =AM14>AH14 -> FALSE | AK14: =AM14<AG14 -> FALSE | AL14: =IF(AM14="",FALSE,OR(AM14>$O$4,AM14<$O$3)) -> FALSE | AM14: =IF(AP14="","",AP14*VLOOKUP($AF$4,convert_units,5,FALSE)*VLOOKUP($AF$4,convert_units,7,FALSE)/VLOOKUP(AT14,material_CF,2,FALSE)) | AP14: =TID_test_plan!H34 | AQ14: =VLOOKUP(TID_test_plan!$F$13,convert_units,2,FALSE) -> rad | AR14: =VLOOKUP(TID_test_plan!$F$13,convert_units,4,FALSE) -> hrs | AS14: =VLOOKUP(TID_test_plan!$F$13,convert_units,3,FALSE) -> cm | AT14: Si | AU14: =VLOOKUP(AT14,material_CF,2,FALSE) -> 0.898
A15: 9 | B15: =IF(VLOOKUP(MAX($C15:$P15),Warning_messages,2,FALSE)=0,"",VLOOKUP(MAX($C15:$P15),Warning_messages,2,FALSE)) -> please fill in: Target TID, [target dose rate] | C15: =IF(OR(TID_test_plan!F35="",TID_test_plan!F35=0),C$5,0) -> 9 | D15: =IF(TID_test_plan!F35<TID_test_plan!F34,D$5,0) -> 0 | E15: =IF(AK15,E$5,0) -> 0 | F15: =IF(AJ15,F$5,0) -> 0 | G15: =IF(ISERROR(VLOOKUP(TRUNC(TID_test_plan!N35,0),Public_Holidays,1,FALSE)),0,G$5) -> 0 | H15: =IF(ISERROR(VLOOKUP(TRUNC(TID_test_plan!Q35,0),Public_Holidays,1,FALSE)),0,H$5) -> 0 | I15: =IF(TID_test_plan!N35="",0,IF((VLOOKUP(WEEKDAY(TID_test_plan!N35),work_days,8,FALSE)),I$5,0)) -> 0 | J15: =IF(TID_test_plan!Q35="",0,IF((VLOOKUP(WEEKDAY(TID_test_plan!Q35),work_days,8,FALSE)),J$5,0)) -> 0 | K15: =IF(TID_test_plan!N35="",0,IF(AND((TID_test_plan!N35-TRUNC(TID_test_plan!N35))>VLOOKUP(WEEKDAY(TID_test_plan!N35),work_days,4,FALSE),(TID_test_plan!N35-TRUNC(TID_test_plan!N35))<VLOOKUP(WEEKDAY(TID_test_plan!N35),work_days,7,FALSE)),0,K$5)) -> 0 | L15: =IF(TID_test_plan!N35="",0,IF(AND((TID_test_plan!N35-TRUNC(TID_test_plan!N35))>VLOOKUP(WEEKDAY(TID_test_plan!N35),work_days,5,FALSE),(TID_test_plan!N35-TRUNC(TID_test_plan!N35))<VLOOKUP(WEEKDAY(TID_test_plan!N35),work_days,6,FALSE)),0,L$5)) -> 0 | M15: =IF(TID_test_plan!Q35="",0,IF(AND((TID_test_plan!Q35-TRUNC(TID_test_plan!Q35))>VLOOKUP(WEEKDAY(TID_test_plan!Q35),work_days,4,FALSE),(TID_test_plan!Q35-TRUNC(TID_test_plan!Q35))<VLOOKUP(WEEKDAY(TID_test_plan!Q35),work_days,7,FALSE)),0,M$5)) -> 0 | N15: =IF(TID_test_plan!Q35="",0,IF(AND((TID_test_plan!Q35-TRUNC(TID_test_plan!Q35))>VLOOKUP(WEEKDAY(TID_test_plan!Q35),work_days,5,FALSE),(TID_test_plan!Q35-TRUNC(TID_test_plan!Q35))<VLOOKUP(WEEKDAY(TID_test_plan!Q35),work_days,6,FALSE)),0,N$5)) -> 0 | O15: =IF((TID_test_plan!H35=""),0,IF(AL15,$O$5,"")) -> 0 | AE15: =TID_test_plan!N35 | AF15: =TID_test_plan!Q35 | AG15: =IF(AF15="","",(self_absorption_coefficient*Co60constant*(Activity_at_reload_date*EXP(-LN(2)/(half_life)*(AF15-Date_of_reload)*(24*3600))))/((E$3)^2)) | AH15: =IF(AE15="","",(self_absorption_coefficient*Co60constant*(Activity_at_reload_date*EXP(-LN(2)/(half_life)*(AE15-Date_of_reload)*(24*3600))))/((F$3)^2)) | AJ15: =AM15>AH15 -> FALSE | AK15: =AM15<AG15 -> FALSE | AL15: =IF(AM15="",FALSE,OR(AM15>$O$4,AM15<$O$3)) -> FALSE | AM15: =IF(AP15="","",AP15*VLOOKUP($AF$4,convert_units,5,FALSE)*VLOOKUP($AF$4,convert_units,7,FALSE)/VLOOKUP(AT15,material_CF,2,FALSE)) | AP15: =TID_test_plan!H35 | AQ15: =VLOOKUP(TID_test_plan!$F$13,convert_units,2,FALSE) -> rad | AR15: =VLOOKUP(TID_test_plan!$F$13,convert_units,4,FALSE) -> hrs | AS15: =VLOOKUP(TID_test_plan!$F$13,convert_units,3,FALSE) -> cm | AT15: Si | AU15: =VLOOKUP(AT15,material_CF,2,FALSE) -> 0.898
A16: 10 | B16: =IF(VLOOKUP(MAX($C16:$P16),Warning_messages,2,FALSE)=0,"",VLOOKUP(MAX($C16:$P16),Warning_messages,2,FALSE)) -> please fill in: Target TID, [target dose rate] | C16: =IF(OR(TID_test_plan!F36="",TID_test_plan!F36=0),C$5,0) -> 9 | D16: =IF(TID_test_plan!F36<TID_test_plan!F35,D$5,0) -> 0 | E16: =IF(AK16,E$5,0) -> 0 | F16: =IF(AJ16,F$5,0) -> 0 | G16: =IF(ISERROR(VLOOKUP(TRUNC(TID_test_plan!N36,0),Public_Holidays,1,FALSE)),0,G$5) -> 0 | H16: =IF(ISERROR(VLOOKUP(TRUNC(TID_test_plan!Q36,0),Public_Holidays,1,FALSE)),0,H$5) -> 0 | I16: =IF(TID_test_plan!N36="",0,IF((VLOOKUP(WEEKDAY(TID_test_plan!N36),work_days,8,FALSE)),I$5,0)) -> 0 | J16: =IF(TID_test_plan!Q36="",0,IF((VLOOKUP(WEEKDAY(TID_test_plan!Q36),work_days,8,FALSE)),J$5,0)) -> 0 | K16: =IF(TID_test_plan!N36="",0,IF(AND((TID_test_plan!N36-TRUNC(TID_test_plan!N36))>VLOOKUP(WEEKDAY(TID_test_plan!N36),work_days,4,FALSE),(TID_test_plan!N36-TRUNC(TID_test_plan!N36))<VLOOKUP(WEEKDAY(TID_test_plan!N36),work_days,7,FALSE)),0,K$5)) -> 0 | L16: =IF(TID_test_plan!N36="",0,IF(AND((TID_test_plan!N36-TRUNC(TID_test_plan!N36))>VLOOKUP(WEEKDAY(TID_test_plan!N36),work_days,5,FALSE),(TID_test_plan!N36-TRUNC(TID_test_plan!N36))<VLOOKUP(WEEKDAY(TID_test_plan!N36),work_days,6,FALSE)),0,L$5)) -> 0 | M16: =IF(TID_test_plan!Q36="",0,IF(AND((TID_test_plan!Q36-TRUNC(TID_test_plan!Q36))>VLOOKUP(WEEKDAY(TID_test_plan!Q36),work_days,4,FALSE),(TID_test_plan!Q36-TRUNC(TID_test_plan!Q36))<VLOOKUP(WEEKDAY(TID_test_plan!Q36),work_days,7,FALSE)),0,M$5)) -> 0 | N16: =IF(TID_test_plan!Q36="",0,IF(AND((TID_test_plan!Q36-TRUNC(TID_test_plan!Q36))>VLOOKUP(WEEKDAY(TID_test_plan!Q36),work_days,5,FALSE),(TID_test_plan!Q36-TRUNC(TID_test_plan!Q36))<VLOOKUP(WEEKDAY(TID_test_plan!Q36),work_days,6,FALSE)),0,N$5)) -> 0 | O16: =IF((TID_test_plan!H36=""),0,IF(AL16,$O$5,"")) -> 0 | AE16: =TID_test_plan!N36 | AF16: =TID_test_plan!Q36 | AG16: =IF(AF16="","",(self_absorption_coefficient*Co60constant*(Activity_at_reload_date*EXP(-LN(2)/(half_life)*(AF16-Date_of_reload)*(24*3600))))/((E$3)^2)) | AH16: =IF(AE16="","",(self_absorption_coefficient*Co60constant*(Activity_at_reload_date*EXP(-LN(2)/(half_life)*(AE16-Date_of_reload)*(24*3600))))/((F$3)^2)) | AJ16: =AM16>AH16 -> FALSE | AK16: =AM16<AG16 -> FALSE | AL16: =IF(AM16="",FALSE,OR(AM16>$O$4,AM16<$O$3)) -> FALSE | AM16: =IF(AP16="","",AP16*VLOOKUP($AF$4,convert_units,5,FALSE)*VLOOKUP($AF$4,convert_units,7,FALSE)/VLOOKUP(AT16,material_CF,2,FALSE)) | AP16: =TID_test_plan!H36 | AQ16: =VLOOKUP(TID_test_plan!$F$13,convert_units,2,FALSE) -> rad | AR16: =VLOOKUP(TID_test_plan!$F$13,convert_units,4,FALSE) -> hrs | AS16: =VLOOKUP(TID_test_plan!$F$13,convert_units,3,FALSE) -> cm | AT16: Si | AU16: =VLOOKUP(AT16,material_CF,2,FALSE) -> 0.898
A17: 11 | B17: =IF(VLOOKUP(MAX($C17:$P17),Warning_messages,2,FALSE)=0,"",VLOOKUP(MAX($C17:$P17),Warning_messages,2,FALSE)) -> please fill in: Target TID, [target dose rate] | C17: =IF(OR(TID_test_plan!F37="",TID_test_plan!F37=0),C$5,0) -> 9 | D17: =IF(TID_test_plan!F37<TID_test_plan!F36,D$5,0) -> 0 | E17: =IF(AK17,E$5,0) -> 0 | F17: =IF(AJ17,F$5,0) -> 0 | G17: =IF(ISERROR(VLOOKUP(TRUNC(TID_test_plan!N37,0),Public_Holidays,1,FALSE)),0,G$5) -> 0 | H17: =IF(ISERROR(VLOOKUP(TRUNC(TID_test_plan!Q37,0),Public_Holidays,1,FALSE)),0,H$5) -> 0 | I17: =IF(TID_test_plan!N37="",0,IF((VLOOKUP(WEEKDAY(TID_test_plan!N37),work_days,8,FALSE)),I$5,0)) -> 0 | J17: =IF(TID_test_plan!Q37="",0,IF((VLOOKUP(WEEKDAY(TID_test_plan!Q37),work_days,8,FALSE)),J$5,0)) -> 0 | K17: =IF(TID_test_plan!N37="",0,IF(AND((TID_test_plan!N37-TRUNC(TID_test_plan!N37))>VLOOKUP(WEEKDAY(TID_test_plan!N37),work_days,4,FALSE),(TID_test_plan!N37-TRUNC(TID_test_plan!N37))<VLOOKUP(WEEKDAY(TID_test_plan!N37),work_days,7,FALSE)),0,K$5)) -> 0 | L17: =IF(TID_test_plan!N37="",0,IF(AND((TID_test_plan!N37-TRUNC(TID_test_plan!N37))>VLOOKUP(WEEKDAY(TID_test_plan!N37),work_days,5,FALSE),(TID_test_plan!N37-TRUNC(TID_test_plan!N37))<VLOOKUP(WEEKDAY(TID_test_plan!N37),work_days,6,FALSE)),0,L$5)) -> 0 | M17: =IF(TID_test_plan!Q37="",0,IF(AND((TID_test_plan!Q37-TRUNC(TID_test_plan!Q37))>VLOOKUP(WEEKDAY(TID_test_plan!Q37),work_days,4,FALSE),(TID_test_plan!Q37-TRUNC(TID_test_plan!Q37))<VLOOKUP(WEEKDAY(TID_test_plan!Q37),work_days,7,FALSE)),0,M$5)) -> 0 | N17: =IF(TID_test_plan!Q37="",0,IF(AND((TID_test_plan!Q37-TRUNC(TID_test_plan!Q37))>VLOOKUP(WEEKDAY(TID_test_plan!Q37),work_days,5,FALSE),(TID_test_plan!Q37-TRUNC(TID_test_plan!Q37))<VLOOKUP(WEEKDAY(TID_test_plan!Q37),work_days,6,FALSE)),0,N$5)) -> 0 | O17: =IF((TID_test_plan!H37=""),0,IF(AL17,$O$5,"")) -> 0 | AE17: =TID_test_plan!N37 | AF17: =TID_test_plan!Q37 | AG17: =IF(AF17="","",(self_absorption_coefficient*Co60constant*(Activity_at_reload_date*EXP(-LN(2)/(half_life)*(AF17-Date_of_reload)*(24*3600))))/((E$3)^2)) | AH17: =IF(AE17="","",(self_absorption_coefficient*Co60constant*(Activity_at_reload_date*EXP(-LN(2)/(half_life)*(AE17-Date_of_reload)*(24*3600))))/((F$3)^2)) | AJ17: =AM17>AH17 -> FALSE | AK17: =AM17<AG17 -> FALSE | AL17: =IF(AM17="",FALSE,OR(AM17>$O$4,AM17<$O$3)) -> FALSE | AM17: =IF(AP17="","",AP17*VLOOKUP($AF$4,convert_units,5,FALSE)*VLOOKUP($AF$4,convert_units,7,FALSE)/VLOOKUP(AT17,material_CF,2,FALSE)) | AP17: =TID_test_plan!H37 | AQ17: =VLOOKUP(TID_test_plan!$F$13,convert_units,2,FALSE) -> rad | AR17: =VLOOKUP(TID_test_plan!$F$13,convert_units,4,FALSE) -> hrs | AS17: =VLOOKUP(TID_test_plan!$F$13,convert_units,3,FALSE) -> cm | AT17: Si | AU17: =VLOOKUP(AT17,material_CF,2,FALSE) -> 0.898
A18: 12 | B18: =IF(VLOOKUP(MAX($C18:$P18),Warning_messages,2,FALSE)=0,"",VLOOKUP(MAX($C18:$P18),Warning_messages,2,FALSE)) -> please fill in: Target TID, [target dose rate] | C18: =IF(OR(TID_test_plan!F38="",TID_test_plan!F38=0),C$5,0) -> 9 | D18: =IF(TID_test_plan!F38<TID_test_plan!F37,D$5,0) -> 0 | E18: =IF(AK18,E$5,0) -> 0 | F18: =IF(AJ18,F$5,0) -> 0 | G18: =IF(ISERROR(VLOOKUP(TRUNC(TID_test_plan!N38,0),Public_Holidays,1,FALSE)),0,G$5) -> 0 | H18: =IF(ISERROR(VLOOKUP(TRUNC(TID_test_plan!Q38,0),Public_Holidays,1,FALSE)),0,H$5) -> 0 | I18: =IF(TID_test_plan!N38="",0,IF((VLOOKUP(WEEKDAY(TID_test_plan!N38),work_days,8,FALSE)),I$5,0)) -> 0 | J18: =IF(TID_test_plan!Q38="",0,IF((VLOOKUP(WEEKDAY(TID_test_plan!Q38),work_days,8,FALSE)),J$5,0)) -> 0 | K18: =IF(TID_test_plan!N38="",0,IF(AND((TID_test_plan!N38-TRUNC(TID_test_plan!N38))>VLOOKUP(WEEKDAY(TID_test_plan!N38),work_days,4,FALSE),(TID_test_plan!N38-TRUNC(TID_test_plan!N38))<VLOOKUP(WEEKDAY(TID_test_plan!N38),work_days,7,FALSE)),0,K$5)) -> 0 | L18: =IF(TID_test_plan!N38="",0,IF(AND((TID_test_plan!N38-TRUNC(TID_test_plan!N38))>VLOOKUP(WEEKDAY(TID_test_plan!N38),work_days,5,FALSE),(TID_test_plan!N38-TRUNC(TID_test_plan!N38))<VLOOKUP(WEEKDAY(TID_test_plan!N38),work_days,6,FALSE)),0,L$5)) -> 0 | M18: =IF(TID_test_plan!Q38="",0,IF(AND((TID_test_plan!Q38-TRUNC(TID_test_plan!Q38))>VLOOKUP(WEEKDAY(TID_test_plan!Q38),work_days,4,FALSE),(TID_test_plan!Q38-TRUNC(TID_test_plan!Q38))<VLOOKUP(WEEKDAY(TID_test_plan!Q38),work_days,7,FALSE)),0,M$5)) -> 0 | N18: =IF(TID_test_plan!Q38="",0,IF(AND((TID_test_plan!Q38-TRUNC(TID_test_plan!Q38))>VLOOKUP(WEEKDAY(TID_test_plan!Q38),work_days,5,FALSE),(TID_test_plan!Q38-TRUNC(TID_test_plan!Q38))<VLOOKUP(WEEKDAY(TID_test_plan!Q38),work_days,6,FALSE)),0,N$5)) -> 0 | O18: =IF((TID_test_plan!H38=""),0,IF(AL18,$O$5,"")) -> 0 | AE18: =TID_test_plan!N38 | AF18: =TID_test_plan!Q38 | AG18: =IF(AF18="","",(self_absorption_coefficient*Co60constant*(Activity_at_reload_date*EXP(-LN(2)/(half_life)*(AF18-Date_of_reload)*(24*3600))))/((E$3)^2)) | AH18: =IF(AE18="","",(self_absorption_coefficient*Co60constant*(Activity_at_reload_date*EXP(-LN(2)/(half_life)*(AE18-Date_of_reload)*(24*3600))))/((F$3)^2)) | AJ18: =AM18>AH18 -> FALSE | AK18: =AM18<AG18 -> FALSE | AL18: =IF(AM18="",FALSE,OR(AM18>$O$4,AM18<$O$3)) -> FALSE | AM18: =IF(AP18="","",AP18*VLOOKUP($AF$4,convert_units,5,FALSE)*VLOOKUP($AF$4,convert_units,7,FALSE)/VLOOKUP(AT18,material_CF,2,FALSE)) | AP18: =TID_test_plan!H38 | AQ18: =VLOOKUP(TID_test_plan!$F$13,convert_units,2,FALSE) -> rad | AR18: =VLOOKUP(TID_test_plan!$F$13,convert_units,4,FALSE) -> hrs | AS18: =VLOOKUP(TID_test_plan!$F$13,convert_units,3,FALSE) -> cm | AT18: Si | AU18: =VLOOKUP(AT18,material_CF,2,FALSE) -> 0.898
B26: Flag field a | C26: Flag field b | D26: Flag field c | E26: Flag field d
A27: 1 | B27: =VLOOKUP(MAX($C7,$D7),Warning_messages,3,FALSE) -> 0 | C27: =VLOOKUP(MAX(E7,F7,O7),Warning_messages,3,FALSE) -> 0 | D27: =VLOOKUP(MAX(G7,I7,K7,L7),Warning_messages,3,FALSE) -> 0 | E27: =VLOOKUP(MAX(H7,J7,M7,N7),Warning_messages,3,FALSE) -> 0
A28: 2 | B28: =VLOOKUP(MAX($C8,$D8),Warning_messages,3,FALSE) -> 2 | C28: =VLOOKUP(MAX(E8,F8,O8),Warning_messages,3,FALSE) -> 0 | D28: =VLOOKUP(MAX(G8,I8,K8,L8),Warning_messages,3,FALSE) -> 0 | E28: =VLOOKUP(MAX(H8,J8,M8,N8),Warning_messages,3,FALSE) -> 0
A29: 3 | B29: =VLOOKUP(MAX($C9,$D9),Warning_messages,3,FALSE) -> 2 | C29: =VLOOKUP(MAX(E9,F9,O9),Warning_messages,3,FALSE) -> 0 | D29: =VLOOKUP(MAX(G9,I9,K9,L9),Warning_messages,3,FALSE) -> 0 | E29: =VLOOKUP(MAX(H9,J9,M9,N9),Warning_messages,3,FALSE) -> 0
A30: 4 | B30: =VLOOKUP(MAX($C10,$D10),Warning_messages,3,FALSE) -> 2 | C30: =VLOOKUP(MAX(E10,F10,O10),Warning_messages,3,FALSE) -> 0 | D30: =VLOOKUP(MAX(G10,I10,K10,L10),Warning_messages,3,FALSE) -> 0 | E30: =VLOOKUP(MAX(H10,J10,M10,N10),Warning_messages,3,FALSE) -> 0
A31: 5 | B31: =VLOOKUP(MAX($C11,$D11),Warning_messages,3,FALSE) -> 2 | C31: =VLOOKUP(MAX(E11,F11,O11),Warning_messages,3,FALSE) -> 0 | D31: =VLOOKUP(MAX(G11,I11,K11,L11),Warning_messages,3,FALSE) -> 0 | E31: =VLOOKUP(MAX(H11,J11,M11,N11),Warning_messages,3,FALSE) -> 0
